BEGIN:VCALENDAR
VERSION:2.0
PRODID:icalendar-ruby
CALSCALE:GREGORIAN
METHOD:PUBLISH
BEGIN:VEVENT
DTSTAMP:20260423T050826Z
UID:9-503839@beckleycommunityumc.org
DTSTART:20260923T133000Z
DTEND:20260923T153000Z
CLASS:PUBLIC
CREATED:20260422T225851
DESCRIPTION:If you enjoy quilting or want to learn to quilt\, join the Quil
 ters in the Van Meter room!
LAST-MODIFIED:20260422T225851
LOCATION:Beckley Community UMC - Van Meter Room
SUMMARY:Quilting Group
URL;VALUE=URI:https://www.beckleycommunityumc.org/events/quilting-group/202
 6-09-23
ATTACH;FILENAME=Quilters.jpg;FMTTYPE=image/jpeg:https://dq5pwpg1q8ru0.cloud
 front.net/2025/02/03/00/06/09/fe1e6c56-3e6d-4481-9e07-7204567b53c4/Quilter
 s.jpg
END:VEVENT
END:VCALENDAR
